BEGIN:VCALENDAR
VERSION:2.0
PRODID:-//pretix//pretix.eu//
BEGIN:VTIMEZONE
TZID:Europe/Brussels
BEGIN:STANDARD
DTSTART:20001029T040000
RRULE:FREQ=YEARLY;BYDAY=-1SU;BYMONTH=10
TZNAME:CET
TZOFFSETFROM:+0200
TZOFFSETTO:+0100
END:STANDARD
BEGIN:DAYLIGHT
DTSTART:20000326T030000
RRULE:FREQ=YEARLY;BYDAY=-1SU;BYMONTH=3
TZNAME:CEST
TZOFFSETFROM:+0100
TZOFFSETTO:+0200
END:DAYLIGHT
END:VTIMEZONE
BEGIN:VEVENT
UID:pretix-concordiavrienden-bff26-0@kaarten.concordiavrienden.be
DTSTART;TZID=Europe/Brussels:20260510T110000
DTEND;TZID=Europe/Brussels:20260510T120000
DESCRIPTION:Tickets: https://kaarten.concordiavrienden.be/bff26/\nOrganisat
 or: Harmonieorkest Concordiavrienden
DTSTAMP:20260421T090340Z
LOCATION:Dorpshuis Vrededaal\, L. Van Kerckhovenstraat 1\, 2870 Puurs-Sint-
 Amands (Kalfort)
SUMMARY:Aperitiefconcert Band  For the Future
END:VEVENT
END:VCALENDAR
